BEGIN:VCALENDAR
VERSION:2.0
PRODID:-//eventon.com NONSGML v1.0//EN
BEGIN:VEVENT
UID:69eb9b1db1195
DTSTAMP:20260424T163229
DTSTART:20250227T140000Z
DTEND:20250228T160000Z
LOCATION:Michelangelo via Micco\,  7
SUMMARY:Corso Fgas Febbraio 2025 - Nuove Certificazioni
DESCRIPTION: Corso Fgas Febbraio 2025 - Dopo anni dall'applicazione del decreto\,  ora le aziende che installano impianti di condizionamento non possono più farlo se non sono in possesso del Patentino Frigorista. Come dimostrare di essere un'azienda competente?  Non ti resta altra soluzione se non quella di certificarti! Il Patentino Fgas fa la[..]
END:VEVENT
END:VCALENDAR