BEGIN:VCALENDAR
VERSION:2.0
PRODID:-//eventon.com NONSGML v1.0//EN
BEGIN:VEVENT
UID:69e739d8442f0
DTSTAMP:20260421T084824
DTSTART:20221107T090000Z
DTEND:20221111T160000Z
LOCATION:Michelangelo via Micco\,  7
SUMMARY:Corso tecnico e installatore impianti fotovoltaici - Novembre 2022
DESCRIPTION: Corso tecnico e installatore impianti fotovoltaici Novembre 2022 - La figura professionale in uscita avrà le competenze teoriche e tecniche necessarie per installare gli impianti fotovoltaici e curarne la loro manutenzione. Può trovare collocazione sia come lavoratore dipendente presso aziende già avviate nel campo dell’installazione di detti impianti\,  sia come lavoratore autonomo\,  sempre[..]
END:VEVENT
END:VCALENDAR