BEGIN:VCALENDAR
VERSION:2.0
PRODID:-//eventon.com NONSGML v1.0//EN
BEGIN:VEVENT
UID:69e6558a1a0c0
DTSTAMP:20260420T163418
DTSTART:20211207T090000Z
DTEND:20211210T133000Z
LOCATION:Michelangelo via Micco\,  7
SUMMARY:Patentino Fgas dicembre 2021
DESCRIPTION: Patentino Fgas dicembre 2021 - Dopo anni dall'applicazione del decreto\,  ora le aziende che installano impianti di condizionamento non possono più farlo se non sono in possesso del Patentino Frigorista. Come dimostrare di essere un'azienda competente? Non ti resta altra soluzione se non quella di certificarti! Il Patentino Fgas fa la[..]
END:VEVENT
END:VCALENDAR