BEGIN:VCALENDAR
VERSION:2.0
PRODID:-//eventon.com NONSGML v1.0//EN
BEGIN:VEVENT
UID:69e73a8f35d2d
DTSTAMP:20260421T085127
DTSTART:20210428T000000Z
DTEND:20210430T000000Z
LOCATION:Michelangelo via Micco\,  7
SUMMARY:UNI 11716 Certificazione cappotto termico 28 aprile 2021
DESCRIPTION: UNI 11716 Certificazione cappotto termico 28 aprile 2021 - Stai seguendo le news sul Bonus 110%? La tua azienda lavora nell'edilizia? Che tipologia di lavori svolgi? La qualifica\,  in accordo alla UNI 11716\,  stabilisce i requisiti di conoscenza\,  competenza\,  abilità dei posatori di cappotti termici. Come fare per ottenere la[..]
END:VEVENT
END:VCALENDAR