BEGIN:VCALENDAR
VERSION:2.0
PRODID:-//eventon.com NONSGML v1.0//EN
BEGIN:VEVENT
UID:69ecacf68f579
DTSTAMP:20260425T120054
DTSTART:20210107T000000Z
DTEND:20210109T000000Z
LOCATION:Michelangelo via Micco\,  7
SUMMARY:Certificazione cappotto termico gennaio 2021
DESCRIPTION: Certificazione cappotto termico gennaio 2021 - Stai seguendo le news sull'Ecobonus? La tua azienda lavora nell'edilizia? Che tipologia di lavori svolgi? La qualifica\,  in accordo alla UNI 11716\,  stabilisce i requisiti di conoscenza\,  competenza\,  abilità dei posatori di cappotti termici. Come fare per ottenere la Certificazione cappotto termico gennaio 2021?[..]
END:VEVENT
END:VCALENDAR